BEGIN:VCALENDAR
VERSION:2.0
PRODID:-// - ECPv6.15.20//NONSGML v1.0//EN
CALSCALE:GREGORIAN
METHOD:PUBLISH
X-ORIGINAL-URL:https://www.mairie-rainneville.fr
X-WR-CALDESC:Évènements pour 
REFRESH-INTERVAL;VALUE=DURATION:PT1H
X-Robots-Tag:noindex
X-PUBLISHED-TTL:PT1H
BEGIN:VTIMEZONE
TZID:Europe/Paris
BEGIN:DAYLIGHT
TZOFFSETFROM:+0100
TZOFFSETTO:+0200
TZNAME:CEST
DTSTART:20250330T010000
END:DAYLIGHT
BEGIN:STANDARD
TZOFFSETFROM:+0200
TZOFFSETTO:+0100
TZNAME:CET
DTSTART:20251026T010000
END:STANDARD
BEGIN:DAYLIGHT
TZOFFSETFROM:+0100
TZOFFSETTO:+0200
TZNAME:CEST
DTSTART:20260329T010000
END:DAYLIGHT
BEGIN:STANDARD
TZOFFSETFROM:+0200
TZOFFSETTO:+0100
TZNAME:CET
DTSTART:20261025T010000
END:STANDARD
BEGIN:DAYLIGHT
TZOFFSETFROM:+0100
TZOFFSETTO:+0200
TZNAME:CEST
DTSTART:20270328T010000
END:DAYLIGHT
BEGIN:STANDARD
TZOFFSETFROM:+0200
TZOFFSETTO:+0100
TZNAME:CET
DTSTART:20271031T010000
END:STANDARD
END:VTIMEZONE
BEGIN:VEVENT
DTSTART;TZID=Europe/Paris:20261025T120000
DTEND;TZID=Europe/Paris:20261025T190000
DTSTAMP:20260423T120856
CREATED:20260415T161207Z
LAST-MODIFIED:20260415T161207Z
UID:12433-1792929600-1792954800@www.mairie-rainneville.fr
SUMMARY:Repas Couscous
DESCRIPTION:Repas organisé par l’association Rainneville Loisirs\nAnimation : Patrick THUILLIER \nPrix : 30€ (adulte) et 12€ (enfant)
URL:https://www.mairie-rainneville.fr/event/repas-couscous-3/
LOCATION:Salle P. DUCANGE
CATEGORIES:Association,Manifestation
ATTACH;FMTTYPE=image/jpeg:https://www.mairie-rainneville.fr/wp-content/uploads/2025/03/ge0986f7b3c97c7b1b7e0b84434f2f17006b6eb805a4c8fe6cbcc194cde910d54a5f27b5538cad4eed3c43558613f012a5c37a940b0b7e10a5f6cef6ddda7a992_1280-2934216.jpg
END:VEVENT
END:VCALENDAR