BEGIN:VCALENDAR
VERSION:2.0
PRODID:-// - ECPv6.15.20//NONSGML v1.0//EN
CALSCALE:GREGORIAN
METHOD:PUBLISH
X-ORIGINAL-URL:https://www.mairie-rainneville.fr
X-WR-CALDESC:Évènements pour 
REFRESH-INTERVAL;VALUE=DURATION:PT1H
X-Robots-Tag:noindex
X-PUBLISHED-TTL:PT1H
BEGIN:VTIMEZONE
TZID:Europe/Paris
BEGIN:DAYLIGHT
TZOFFSETFROM:+0100
TZOFFSETTO:+0200
TZNAME:CEST
DTSTART:20250330T010000
END:DAYLIGHT
BEGIN:STANDARD
TZOFFSETFROM:+0200
TZOFFSETTO:+0100
TZNAME:CET
DTSTART:20251026T010000
END:STANDARD
BEGIN:DAYLIGHT
TZOFFSETFROM:+0100
TZOFFSETTO:+0200
TZNAME:CEST
DTSTART:20260329T010000
END:DAYLIGHT
BEGIN:STANDARD
TZOFFSETFROM:+0200
TZOFFSETTO:+0100
TZNAME:CET
DTSTART:20261025T010000
END:STANDARD
BEGIN:DAYLIGHT
TZOFFSETFROM:+0100
TZOFFSETTO:+0200
TZNAME:CEST
DTSTART:20270328T010000
END:DAYLIGHT
BEGIN:STANDARD
TZOFFSETFROM:+0200
TZOFFSETTO:+0100
TZNAME:CET
DTSTART:20271031T010000
END:STANDARD
END:VTIMEZONE
BEGIN:VEVENT
DTSTART;TZID=Europe/Paris:20260305T090000
DTEND;TZID=Europe/Paris:20260305T120000
DTSTAMP:20260423T020613
CREATED:20260227T090916Z
LAST-MODIFIED:20260227T090916Z
UID:12254-1772701200-1772712000@www.mairie-rainneville.fr
SUMMARY:Randonnée dans le cadre de la semaine du sport féminin
DESCRIPTION:L’association Touring Pédestre Amiénois (basée à Rainneville) organise\, dans le cadre de la semaine du sport féminin\, une randonnée douce de 8\,8 km en boucle au départ de Jumel. Cette randonnée aura lieu le jeudi 5 mars à 9h15 (rendez-vous à l’église). \nContacts : Christiane (06.60.19.80.66) ou Jean-Louis (06.67.71.49.04)
URL:https://www.mairie-rainneville.fr/event/randonnee-dans-le-cadre-de-la-semaine-du-sport-feminin/
ATTACH;FMTTYPE=image/jpeg:https://www.mairie-rainneville.fr/wp-content/uploads/2026/02/2589.jpg
END:VEVENT
BEGIN:VEVENT
DTSTART;TZID=Europe/Paris:20260307T093000
DTEND;TZID=Europe/Paris:20260307T120000
DTSTAMP:20260423T020613
CREATED:20260215T201014Z
LAST-MODIFIED:20260215T201014Z
UID:12235-1772875800-1772884800@www.mairie-rainneville.fr
SUMMARY:Hauts-de-France Propres
DESCRIPTION:La Commune de Rainneville s’associe à l’opération « Hauts-de-France Propres » organisée par la Région et la Fédération des chasseurs.
URL:https://www.mairie-rainneville.fr/event/hauts-de-france-propres/
LOCATION:Salle P. DUCANGE
CATEGORIES:Environnement,Mairie
ATTACH;FMTTYPE=image/jpeg:https://www.mairie-rainneville.fr/wp-content/uploads/2026/02/78458.jpg
END:VEVENT
BEGIN:VEVENT
DTSTART;TZID=Europe/Paris:20260308T090000
DTEND;TZID=Europe/Paris:20260308T160000
DTSTAMP:20260423T020613
CREATED:20260126T151541Z
LAST-MODIFIED:20260126T151541Z
UID:12196-1772960400-1772985600@www.mairie-rainneville.fr
SUMMARY:Réderie en salle
DESCRIPTION:La Maison pour Tous organise sa réderie en salle.\nBuvette et Restauration sur place \nRenseignements : 06.22.38.05.50
URL:https://www.mairie-rainneville.fr/event/rederie-en-salle-2/
LOCATION:Salle P. DUCANGE
CATEGORIES:Manifestation
ATTACH;FMTTYPE=image/jpeg:https://www.mairie-rainneville.fr/wp-content/uploads/2023/03/vide-grenier-29.jpg
END:VEVENT
BEGIN:VEVENT
DTSTART;TZID=Europe/Paris:20260315T080000
DTEND;TZID=Europe/Paris:20260315T180000
DTSTAMP:20260423T020613
CREATED:20260126T151649Z
LAST-MODIFIED:20260126T151649Z
UID:12198-1773561600-1773597600@www.mairie-rainneville.fr
SUMMARY:Elections municipales - 1er Tour
DESCRIPTION:
URL:https://www.mairie-rainneville.fr/event/elections-municipales-1er-tour/
LOCATION:Salle P. DUCANGE
CATEGORIES:Mairie
ATTACH;FMTTYPE=image/jpeg:https://www.mairie-rainneville.fr/wp-content/uploads/2026/01/Elections-municipales.jpg
END:VEVENT
BEGIN:VEVENT
DTSTART;TZID=Europe/Paris:20260321T080000
DTEND;TZID=Europe/Paris:20260322T190000
DTSTAMP:20260423T020613
CREATED:20260215T201303Z
LAST-MODIFIED:20260215T201303Z
UID:12238-1774080000-1774206000@www.mairie-rainneville.fr
SUMMARY:Coupe de France de Volley Sourd
DESCRIPTION:L’édition 2026 de la Coupe de France Volley Sourd sera organisée par le club U.S Rainneville Volley-Ball et aura lieu le week-end des 21 et 22 mars 2026.
URL:https://www.mairie-rainneville.fr/event/coupe-de-france-de-volley-sourd/
LOCATION:Gymnase de Villers-Bocage\, VILLERS-BOCAGE\, 80260\, France
ATTACH;FMTTYPE=image/jpeg:https://www.mairie-rainneville.fr/wp-content/uploads/2026/02/859832.jpg
END:VEVENT
BEGIN:VEVENT
DTSTART;TZID=Europe/Paris:20260321T103000
DTEND;TZID=Europe/Paris:20260321T130000
DTSTAMP:20260423T020613
CREATED:20260126T151816Z
LAST-MODIFIED:20260319T055641Z
UID:12200-1774089000-1774098000@www.mairie-rainneville.fr
SUMMARY:Conseil municipal d'installation
DESCRIPTION:Suite aux élections municipales qui a vu la victoire au 1er tour de la liste « Ensemble pour Rainneville » menée par Jacques MASSET\, le conseil municipal d’installation aura lieu le samedi 21 mars à 10h30 à la salle polyvalente Pierre DUCANGE\, rue du stade. \nOrdre du jour :\n– Installation du conseil municipal\n– Election du maire\n– Fixation du nombre d’adjoints\n– Election des adjoints au maire\n– Lecture de la charte de l’élu(e) local(e) \nLa séance est publique et ouverte à tous les habitants.
URL:https://www.mairie-rainneville.fr/event/elections-municipales-2e-tour/
LOCATION:Salle P. DUCANGE
CATEGORIES:Mairie
ATTACH;FMTTYPE=image/jpeg:https://www.mairie-rainneville.fr/wp-content/uploads/2022/04/Reunion-CM-e1648832099493.jpg
END:VEVENT
BEGIN:VEVENT
DTSTART;TZID=Europe/Paris:20260328T193000
DTEND;TZID=Europe/Paris:20260329T040000
DTSTAMP:20260423T020613
CREATED:20260215T200729Z
LAST-MODIFIED:20260215T200729Z
UID:12232-1774726200-1774756800@www.mairie-rainneville.fr
SUMMARY:Soirée Paëlla
DESCRIPTION:L’U.S Rainneville Volley-Ball organise sa soirée Paëlla. \nMenu Adulte > 20€\nApéritif – Paëlla ou Lasagnes – Dessert – Café \nMenu Enfant > 10€ (moins de 10 ans)\nSoft – Lasagnes – Dessert \nInscription obligatoire avant le 13 Mars 2026\nRenseignements : 06.23.62.95.94
URL:https://www.mairie-rainneville.fr/event/soiree-paella-2/
LOCATION:Salle P. DUCANGE
CATEGORIES:Association,Manifestation
ATTACH;FMTTYPE=image/jpeg:https://www.mairie-rainneville.fr/wp-content/uploads/2026/02/52895.jpg
END:VEVENT
END:VCALENDAR