BEGIN:VCALENDAR
VERSION:2.0
PRODID:-// - ECPv6.15.20//NONSGML v1.0//EN
CALSCALE:GREGORIAN
METHOD:PUBLISH
X-ORIGINAL-URL:https://www.mairie-rainneville.fr
X-WR-CALDESC:Évènements pour 
REFRESH-INTERVAL;VALUE=DURATION:PT1H
X-Robots-Tag:noindex
X-PUBLISHED-TTL:PT1H
BEGIN:VTIMEZONE
TZID:Europe/Paris
BEGIN:DAYLIGHT
TZOFFSETFROM:+0100
TZOFFSETTO:+0200
TZNAME:CEST
DTSTART:20250330T010000
END:DAYLIGHT
BEGIN:STANDARD
TZOFFSETFROM:+0200
TZOFFSETTO:+0100
TZNAME:CET
DTSTART:20251026T010000
END:STANDARD
BEGIN:DAYLIGHT
TZOFFSETFROM:+0100
TZOFFSETTO:+0200
TZNAME:CEST
DTSTART:20260329T010000
END:DAYLIGHT
BEGIN:STANDARD
TZOFFSETFROM:+0200
TZOFFSETTO:+0100
TZNAME:CET
DTSTART:20261025T010000
END:STANDARD
BEGIN:DAYLIGHT
TZOFFSETFROM:+0100
TZOFFSETTO:+0200
TZNAME:CEST
DTSTART:20270328T010000
END:DAYLIGHT
BEGIN:STANDARD
TZOFFSETFROM:+0200
TZOFFSETTO:+0100
TZNAME:CET
DTSTART:20271031T010000
END:STANDARD
END:VTIMEZONE
BEGIN:VEVENT
DTSTART;TZID=Europe/Paris:20260131T173000
DTEND;TZID=Europe/Paris:20260201T020000
DTSTAMP:20260423T034734
CREATED:20260127T073751Z
LAST-MODIFIED:20260127T073751Z
UID:12215-1769880600-1769911200@www.mairie-rainneville.fr
SUMMARY:Loto
DESCRIPTION:Ouverture des portes 17h30\nDébut des jeux : 19h30 \nBuvette et Restauration sur place \nRenseignements & Réservation : 06.18.70.28.86 (Catherine)
URL:https://www.mairie-rainneville.fr/event/loto/
LOCATION:Salle P. DUCANGE
CATEGORIES:Association,Manifestation
ATTACH;FMTTYPE=image/jpeg:https://www.mairie-rainneville.fr/wp-content/uploads/2026/01/loto.jpg
ORGANIZER;CN="FRTC (Tennis)":MAILTO:fr.tennisclub@gmail.com
END:VEVENT
BEGIN:VEVENT
DTSTART;TZID=Europe/Paris:20260206T143000
DTEND;TZID=Europe/Paris:20260206T173000
DTSTAMP:20260423T034734
CREATED:20260127T074155Z
LAST-MODIFIED:20260127T074155Z
UID:12217-1770388200-1770399000@www.mairie-rainneville.fr
SUMMARY:AG Rainneville-Loisirs
DESCRIPTION:Vous êtes invités à l’AG de Rainneville-Loisirs qui se déroulera dans la salle Pierre DUCANGE le 6 février 2026 à 14h30. \nLors de cette réunion\, à la suite du désistement d’un couple\, il sera possible de s’inscrire à un voyage qui se déroulera dans le Cantal du 7 septembre au 13 septembre 2026.
URL:https://www.mairie-rainneville.fr/event/ag-rainneville-loisirs/
LOCATION:Salle P. DUCANGE
CATEGORIES:Assemblée générale,Association
ATTACH;FMTTYPE=image/jpeg:https://www.mairie-rainneville.fr/wp-content/uploads/2026/01/AG.jpg
END:VEVENT
BEGIN:VEVENT
DTSTART;TZID=Europe/Paris:20260221T140000
DTEND;TZID=Europe/Paris:20260221T180000
DTSTAMP:20260423T034734
CREATED:20260126T151321Z
LAST-MODIFIED:20260126T151321Z
UID:12194-1771682400-1771696800@www.mairie-rainneville.fr
SUMMARY:Carnaval
DESCRIPTION:Rendez-vous à partir de 14h00\nAtelier Maquillage\nDéfilé dans les rues de Rainneville\nGoûter
URL:https://www.mairie-rainneville.fr/event/carnaval/
LOCATION:Salle P. DUCANGE
CATEGORIES:Manifestation
ATTACH;FMTTYPE=image/jpeg:https://www.mairie-rainneville.fr/wp-content/uploads/2022/01/Carnaval-1.jpg
END:VEVENT
END:VCALENDAR