BEGIN:VCALENDAR
VERSION:2.0
PRODID:-// - ECPv6.15.20//NONSGML v1.0//EN
CALSCALE:GREGORIAN
METHOD:PUBLISH
X-ORIGINAL-URL:https://www.mairie-rainneville.fr
X-WR-CALDESC:Évènements pour 
REFRESH-INTERVAL;VALUE=DURATION:PT1H
X-Robots-Tag:noindex
X-PUBLISHED-TTL:PT1H
BEGIN:VTIMEZONE
TZID:Europe/Paris
BEGIN:DAYLIGHT
TZOFFSETFROM:+0100
TZOFFSETTO:+0200
TZNAME:CEST
DTSTART:20250330T010000
END:DAYLIGHT
BEGIN:STANDARD
TZOFFSETFROM:+0200
TZOFFSETTO:+0100
TZNAME:CET
DTSTART:20251026T010000
END:STANDARD
BEGIN:DAYLIGHT
TZOFFSETFROM:+0100
TZOFFSETTO:+0200
TZNAME:CEST
DTSTART:20260329T010000
END:DAYLIGHT
BEGIN:STANDARD
TZOFFSETFROM:+0200
TZOFFSETTO:+0100
TZNAME:CET
DTSTART:20261025T010000
END:STANDARD
BEGIN:DAYLIGHT
TZOFFSETFROM:+0100
TZOFFSETTO:+0200
TZNAME:CEST
DTSTART:20270328T010000
END:DAYLIGHT
BEGIN:STANDARD
TZOFFSETFROM:+0200
TZOFFSETTO:+0100
TZNAME:CET
DTSTART:20271031T010000
END:STANDARD
END:VTIMEZONE
BEGIN:VEVENT
DTSTART;TZID=Europe/Paris:20260427T190000
DTEND;TZID=Europe/Paris:20260427T213000
DTSTAMP:20260421T193627
CREATED:20260417T072405Z
LAST-MODIFIED:20260420T165725Z
UID:12442-1777316400-1777325400@www.mairie-rainneville.fr
SUMMARY:Conseil municipal
DESCRIPTION:Le prochain conseil municipal aura lieu le lundi 27 avril 2026 à la mairie. \nL’ordre du jour est le suivant :\n– Approbation du compte financier unique 2025\n– Affectation du résultat\n– Vote des taux d’imposition des taxes directes locales\n– Vote du budget primitif 2026\n– Fongibilité des crédits en M57 pour l’exercice 2026\n– Délibération portant sur les admissions en non-valeur\n– Délibération portant sur les créances éteintes\n– Fixation du montant de la taxe à l’hectare\n– Questions diverses \nLa séance est publique.
URL:https://www.mairie-rainneville.fr/event/conseil-municipal-2/
LOCATION:Mairie\, 2 rue de Querrieu\, RAINNEVILLE\, 80260\, France
CATEGORIES:Mairie
ATTACH;FMTTYPE=image/jpeg:https://www.mairie-rainneville.fr/wp-content/uploads/2022/04/Reunion-CM-e1648832099493.jpg
END:VEVENT
END:VCALENDAR