BEGIN:VCALENDAR
VERSION:2.0
PRODID:-// - ECPv6.15.20//NONSGML v1.0//EN
CALSCALE:GREGORIAN
METHOD:PUBLISH
X-ORIGINAL-URL:https://www.mairie-rainneville.fr
X-WR-CALDESC:Évènements pour 
REFRESH-INTERVAL;VALUE=DURATION:PT1H
X-Robots-Tag:noindex
X-PUBLISHED-TTL:PT1H
BEGIN:VTIMEZONE
TZID:Europe/Paris
BEGIN:DAYLIGHT
TZOFFSETFROM:+0100
TZOFFSETTO:+0200
TZNAME:CEST
DTSTART:20230326T010000
END:DAYLIGHT
BEGIN:STANDARD
TZOFFSETFROM:+0200
TZOFFSETTO:+0100
TZNAME:CET
DTSTART:20231029T010000
END:STANDARD
BEGIN:DAYLIGHT
TZOFFSETFROM:+0100
TZOFFSETTO:+0200
TZNAME:CEST
DTSTART:20240331T010000
END:DAYLIGHT
BEGIN:STANDARD
TZOFFSETFROM:+0200
TZOFFSETTO:+0100
TZNAME:CET
DTSTART:20241027T010000
END:STANDARD
BEGIN:DAYLIGHT
TZOFFSETFROM:+0100
TZOFFSETTO:+0200
TZNAME:CEST
DTSTART:20250330T010000
END:DAYLIGHT
BEGIN:STANDARD
TZOFFSETFROM:+0200
TZOFFSETTO:+0100
TZNAME:CET
DTSTART:20251026T010000
END:STANDARD
END:VTIMEZONE
BEGIN:VEVENT
DTSTART;TZID=Europe/Paris:20240921T103000
DTEND;TZID=Europe/Paris:20240921T120000
DTSTAMP:20260425T022222
CREATED:20240905T182109Z
LAST-MODIFIED:20240905T182131Z
UID:3727-1726914600-1726920000@www.mairie-rainneville.fr
SUMMARY:Réunion atelier décoration de Noël
DESCRIPTION:L’ année dernière\, nous avons voulu embellir le village pour les fêtes de fin d’année. Ainsi\, des habitants volontaires et quelques élus ont créé des décorations en bois à partir de matériaux de récupération. \nCette année\, nous poursuivons le travail engagé en 2023. Ainsi\, si vous souhaitez participer à cette belle aventure\, nous vous invitons à une réunion d’information le samedi 21 septembre 2024 à 10h30 à l’atelier communal (rue de Gauville\, entre les numéros 18 et 20).
URL:https://www.mairie-rainneville.fr/event/reunion-atelier-decoration-de-noel/
LOCATION:Atelier communal\, rue de Gauville\, RAINNEVILLE\, 80260
CATEGORIES:Mairie
ATTACH;FMTTYPE=image/jpeg:https://www.mairie-rainneville.fr/wp-content/uploads/2024/09/20231209_103210-scaled.jpg
END:VEVENT
END:VCALENDAR