BEGIN:VCALENDAR
VERSION:2.0
PRODID:-// - ECPv6.15.20//NONSGML v1.0//EN
CALSCALE:GREGORIAN
METHOD:PUBLISH
X-ORIGINAL-URL:https://www.mairie-rainneville.fr
X-WR-CALDESC:Évènements pour 
REFRESH-INTERVAL;VALUE=DURATION:PT1H
X-Robots-Tag:noindex
X-PUBLISHED-TTL:PT1H
BEGIN:VTIMEZONE
TZID:Europe/Paris
BEGIN:DAYLIGHT
TZOFFSETFROM:+0100
TZOFFSETTO:+0200
TZNAME:CEST
DTSTART:20230326T010000
END:DAYLIGHT
BEGIN:STANDARD
TZOFFSETFROM:+0200
TZOFFSETTO:+0100
TZNAME:CET
DTSTART:20231029T010000
END:STANDARD
BEGIN:DAYLIGHT
TZOFFSETFROM:+0100
TZOFFSETTO:+0200
TZNAME:CEST
DTSTART:20240331T010000
END:DAYLIGHT
BEGIN:STANDARD
TZOFFSETFROM:+0200
TZOFFSETTO:+0100
TZNAME:CET
DTSTART:20241027T010000
END:STANDARD
BEGIN:DAYLIGHT
TZOFFSETFROM:+0100
TZOFFSETTO:+0200
TZNAME:CEST
DTSTART:20250330T010000
END:DAYLIGHT
BEGIN:STANDARD
TZOFFSETFROM:+0200
TZOFFSETTO:+0100
TZNAME:CET
DTSTART:20251026T010000
END:STANDARD
END:VTIMEZONE
BEGIN:VEVENT
DTSTART;TZID=Europe/Paris:20240508T110000
DTEND;TZID=Europe/Paris:20240508T130000
DTSTAMP:20260425T142845
CREATED:20240502T093519Z
LAST-MODIFIED:20240503T151552Z
UID:3648-1715166000-1715173200@www.mairie-rainneville.fr
SUMMARY:Commémoration du 8 Mai 1945
DESCRIPTION:11h00 : Rassemblement devant le monument aux morts\n11h15 : Cérémonie au monument aux morts \nEnsuite\,\nCérémonie à la petite salle Pierre DUCANGE pour la remise de la médaille d’honneur communale (20 ans) à M. Arnaud DEBEAUVAIS\, ancien agent technique de la commune.
URL:https://www.mairie-rainneville.fr/event/commemoration-du-8-mai-1945/
CATEGORIES:Mairie
ATTACH;FMTTYPE=image/png:https://www.mairie-rainneville.fr/wp-content/uploads/2022/05/Image8mai-300x225-1.png
END:VEVENT
END:VCALENDAR