BEGIN:VCALENDAR
VERSION:2.0
PRODID:-// - ECPv6.15.20//NONSGML v1.0//EN
CALSCALE:GREGORIAN
METHOD:PUBLISH
X-ORIGINAL-URL:https://www.mairie-rainneville.fr
X-WR-CALDESC:Évènements pour 
REFRESH-INTERVAL;VALUE=DURATION:PT1H
X-Robots-Tag:noindex
X-PUBLISHED-TTL:PT1H
BEGIN:VTIMEZONE
TZID:Europe/Paris
BEGIN:DAYLIGHT
TZOFFSETFROM:+0100
TZOFFSETTO:+0200
TZNAME:CEST
DTSTART:20240331T010000
END:DAYLIGHT
BEGIN:STANDARD
TZOFFSETFROM:+0200
TZOFFSETTO:+0100
TZNAME:CET
DTSTART:20241027T010000
END:STANDARD
BEGIN:DAYLIGHT
TZOFFSETFROM:+0100
TZOFFSETTO:+0200
TZNAME:CEST
DTSTART:20250330T010000
END:DAYLIGHT
BEGIN:STANDARD
TZOFFSETFROM:+0200
TZOFFSETTO:+0100
TZNAME:CET
DTSTART:20251026T010000
END:STANDARD
BEGIN:DAYLIGHT
TZOFFSETFROM:+0100
TZOFFSETTO:+0200
TZNAME:CEST
DTSTART:20260329T010000
END:DAYLIGHT
BEGIN:STANDARD
TZOFFSETFROM:+0200
TZOFFSETTO:+0100
TZNAME:CET
DTSTART:20261025T010000
END:STANDARD
END:VTIMEZONE
BEGIN:VEVENT
DTSTART;VALUE=DATE:20251204
DTEND;VALUE=DATE:20251205
DTSTAMP:20260423T181009
CREATED:20250330T122602Z
LAST-MODIFIED:20250330T122602Z
UID:3873-1764806400-1764892799@www.mairie-rainneville.fr
SUMMARY:Sortie au Cabaret La Belle époque à Briquemesnil
DESCRIPTION:L’association Rainneville Loisirs organise\, en covoiturage\, une sortie au cabaret La Belle Epoque à Briquemesnil.\nRepas spectacle\nPlaces limitées \nPrix :\n  – Adhérents : 65€\n  – Non-adhérents : 72€
URL:https://www.mairie-rainneville.fr/event/sortie-au-cabaret-la-belle-epoque-a-briquemesnil/
CATEGORIES:Association
ATTACH;FMTTYPE=image/jpeg:https://www.mairie-rainneville.fr/wp-content/uploads/2025/03/ge0986f7b3c97c7b1b7e0b84434f2f17006b6eb805a4c8fe6cbcc194cde910d54a5f27b5538cad4eed3c43558613f012a5c37a940b0b7e10a5f6cef6ddda7a992_1280-2934216.jpg
END:VEVENT
BEGIN:VEVENT
DTSTART;TZID=Europe/Paris:20251206T150000
DTEND;TZID=Europe/Paris:20251206T170000
DTSTAMP:20260423T181009
CREATED:20251002T200446Z
LAST-MODIFIED:20251002T200446Z
UID:4036-1765033200-1765040400@www.mairie-rainneville.fr
SUMMARY:Fête de la Saint-Nicolas
DESCRIPTION:La maison pour tous organise la traditionnelle fête de la Saint-Nicolas. \nReprésentation de danses par les enfants et les ados de l’atelier danse avec la venue de Saint Nicolas et du père Fouettard.
URL:https://www.mairie-rainneville.fr/event/fete-de-la-saint-nicolas/
LOCATION:Salle P. DUCANGE
CATEGORIES:Association,Festivité
END:VEVENT
END:VCALENDAR