BEGIN:VCALENDAR
VERSION:2.0
PRODID:-// - ECPv6.15.20//NONSGML v1.0//EN
CALSCALE:GREGORIAN
METHOD:PUBLISH
X-ORIGINAL-URL:https://www.mairie-rainneville.fr
X-WR-CALDESC:Évènements pour 
REFRESH-INTERVAL;VALUE=DURATION:PT1H
X-Robots-Tag:noindex
X-PUBLISHED-TTL:PT1H
BEGIN:VTIMEZONE
TZID:Europe/Paris
BEGIN:DAYLIGHT
TZOFFSETFROM:+0100
TZOFFSETTO:+0200
TZNAME:CEST
DTSTART:20240331T010000
END:DAYLIGHT
BEGIN:STANDARD
TZOFFSETFROM:+0200
TZOFFSETTO:+0100
TZNAME:CET
DTSTART:20241027T010000
END:STANDARD
BEGIN:DAYLIGHT
TZOFFSETFROM:+0100
TZOFFSETTO:+0200
TZNAME:CEST
DTSTART:20250330T010000
END:DAYLIGHT
BEGIN:STANDARD
TZOFFSETFROM:+0200
TZOFFSETTO:+0100
TZNAME:CET
DTSTART:20251026T010000
END:STANDARD
BEGIN:DAYLIGHT
TZOFFSETFROM:+0100
TZOFFSETTO:+0200
TZNAME:CEST
DTSTART:20260329T010000
END:DAYLIGHT
BEGIN:STANDARD
TZOFFSETFROM:+0200
TZOFFSETTO:+0100
TZNAME:CET
DTSTART:20261025T010000
END:STANDARD
END:VTIMEZONE
BEGIN:VEVENT
DTSTART;VALUE=DATE:20251111
DTEND;VALUE=DATE:20251112
DTSTAMP:20260423T212227
CREATED:20251002T200219Z
LAST-MODIFIED:20251102T173451Z
UID:4033-1762819200-1762905599@www.mairie-rainneville.fr
SUMMARY:Bourse aux jouets
DESCRIPTION:La Maison pour tous organise une bourse aux jouets et livres d’enfant.
URL:https://www.mairie-rainneville.fr/event/bourse-aux-jouets-2/
LOCATION:Salle P. DUCANGE
CATEGORIES:Association
END:VEVENT
BEGIN:VEVENT
DTSTART;VALUE=DATE:20251120
DTEND;VALUE=DATE:20251121
DTSTAMP:20260423T212227
CREATED:20250330T122054Z
LAST-MODIFIED:20250330T122054Z
UID:3871-1763596800-1763683199@www.mairie-rainneville.fr
SUMMARY:Sortie Beaujolais Nouveau
DESCRIPTION:L’association Rainneville Loisir organise une sortie en bus à Rinxent pour célébrer le Beaujolais Nouveau.\nRepas dansant.\nNombre de places limitées \nPrix :\n   – Adhérents : 48€\n   – Non-adhérents : 65€ \n*L’abus d’alcool nuit gravement à la santé
URL:https://www.mairie-rainneville.fr/event/sortie-beaujolais-nouveau-2/
CATEGORIES:Association
ATTACH;FMTTYPE=image/png:https://www.mairie-rainneville.fr/wp-content/uploads/2023/10/321.png
END:VEVENT
BEGIN:VEVENT
DTSTART;TZID=Europe/Paris:20251122T140000
DTEND;TZID=Europe/Paris:20251122T170000
DTSTAMP:20260423T212227
CREATED:20251102T173602Z
LAST-MODIFIED:20251102T173631Z
UID:4052-1763820000-1763830800@www.mairie-rainneville.fr
SUMMARY:Stage de Bachata et de Salsa
DESCRIPTION:
URL:https://www.mairie-rainneville.fr/event/stage-de-bachata-et-de-salsa/
LOCATION:Salle P. DUCANGE
CATEGORIES:Association
END:VEVENT
END:VCALENDAR