BEGIN:VCALENDAR
VERSION:2.0
PRODID:-// - ECPv6.15.20//NONSGML v1.0//EN
CALSCALE:GREGORIAN
METHOD:PUBLISH
X-ORIGINAL-URL:https://www.mairie-rainneville.fr
X-WR-CALDESC:Évènements pour 
REFRESH-INTERVAL;VALUE=DURATION:PT1H
X-Robots-Tag:noindex
X-PUBLISHED-TTL:PT1H
BEGIN:VTIMEZONE
TZID:Europe/Paris
BEGIN:DAYLIGHT
TZOFFSETFROM:+0100
TZOFFSETTO:+0200
TZNAME:CEST
DTSTART:20240331T010000
END:DAYLIGHT
BEGIN:STANDARD
TZOFFSETFROM:+0200
TZOFFSETTO:+0100
TZNAME:CET
DTSTART:20241027T010000
END:STANDARD
BEGIN:DAYLIGHT
TZOFFSETFROM:+0100
TZOFFSETTO:+0200
TZNAME:CEST
DTSTART:20250330T010000
END:DAYLIGHT
BEGIN:STANDARD
TZOFFSETFROM:+0200
TZOFFSETTO:+0100
TZNAME:CET
DTSTART:20251026T010000
END:STANDARD
BEGIN:DAYLIGHT
TZOFFSETFROM:+0100
TZOFFSETTO:+0200
TZNAME:CEST
DTSTART:20260329T010000
END:DAYLIGHT
BEGIN:STANDARD
TZOFFSETFROM:+0200
TZOFFSETTO:+0100
TZNAME:CET
DTSTART:20261025T010000
END:STANDARD
END:VTIMEZONE
BEGIN:VEVENT
DTSTART;TZID=Europe/Paris:20250405T090000
DTEND;TZID=Europe/Paris:20250405T120000
DTSTAMP:20260425T054619
CREATED:20250216T145723Z
LAST-MODIFIED:20250216T145723Z
UID:3786-1743843600-1743854400@www.mairie-rainneville.fr
SUMMARY:Portes ouvertes de la marche nordique
DESCRIPTION:Venez découvrir cette activité en toute simplicité avec le matériel et les explications nécessaires.\nAu retour\, réconfort avec boissons et douceur.\nEncadrée par Yves \nOuvert à tous\, gratuit
URL:https://www.mairie-rainneville.fr/event/portes-ouvertes-de-la-marche-nordique-2/
LOCATION:Salle P. DUCANGE
CATEGORIES:Association
ATTACH;FMTTYPE=image/jpeg:https://www.mairie-rainneville.fr/wp-content/uploads/2025/02/3.jpg
END:VEVENT
BEGIN:VEVENT
DTSTART;TZID=Europe/Paris:20250405T190000
DTEND;TZID=Europe/Paris:20250406T040000
DTSTAMP:20260425T054619
CREATED:20250301T080334Z
LAST-MODIFIED:20250301T080426Z
UID:3842-1743879600-1743912000@www.mairie-rainneville.fr
SUMMARY:Soirée Cochon grillé
DESCRIPTION:L’association « Les moteurs d’hier » organise un repas « Cochon grillé » au feu de bois le samedi 5 avril prochain. \nFormule Adulte : 20€\nFormule Enfant : 12€ (jusqu’à 12 ans) \nPrésence d’un DJ\nInscription avant le 22 Mars 2025\nNombre de places limitées à 350 personnes \nRenseignements : 06.31.83.19.14
URL:https://www.mairie-rainneville.fr/event/3842/
LOCATION:Salle P. DUCANGE
CATEGORIES:Association,Festivité
END:VEVENT
BEGIN:VEVENT
DTSTART;TZID=Europe/Paris:20250413T120000
DTEND;TZID=Europe/Paris:20250413T180000
DTSTAMP:20260425T054619
CREATED:20250330T094815Z
LAST-MODIFIED:20250330T094815Z
UID:3856-1744545600-1744567200@www.mairie-rainneville.fr
SUMMARY:Repas "Patates"
DESCRIPTION:Rainneville Loisirs organise son repas « Patates » avec la présence de l’orchestre Eric LALOT ». \nRepas dansant – Apéritif offert \nPrix :\n   – Adulte : 30€\n   – Enfant : 12€
URL:https://www.mairie-rainneville.fr/event/repas-patates/
LOCATION:Salle P. DUCANGE
CATEGORIES:Association,Festivité
ATTACH;FMTTYPE=image/png:https://www.mairie-rainneville.fr/wp-content/uploads/2021/07/feu-artifice.png
END:VEVENT
BEGIN:VEVENT
DTSTART;TZID=Europe/Paris:20250419T093000
DTEND;TZID=Europe/Paris:20250419T120000
DTSTAMP:20260425T054619
CREATED:20250216T150632Z
LAST-MODIFIED:20250330T094320Z
UID:3789-1745055000-1745064000@www.mairie-rainneville.fr
SUMMARY:Récolte des œufs de Pâques
DESCRIPTION:Pour les plus petits dans la cour du RPC de Beauvoir (rue du stade)\nPour les plus grands sous forme de jeu de piste dans le village
URL:https://www.mairie-rainneville.fr/event/recolte-des-oeufs-de-paques/
LOCATION:RPC (école) de Beauvoir\, rue du stade\, RAINNEVILLE\, 80260\, France
CATEGORIES:Association,Manifestation
END:VEVENT
BEGIN:VEVENT
DTSTART;TZID=Europe/Paris:20250426T160000
DTEND;TZID=Europe/Paris:20250426T213000
DTSTAMP:20260425T054619
CREATED:20250419T085126Z
LAST-MODIFIED:20250419T085144Z
UID:3945-1745683200-1745703000@www.mairie-rainneville.fr
SUMMARY:Mini Disco - APERB
DESCRIPTION:16h00 – 18h00 : de la petite section au CP\n18h30 – 21h30 : du CE1 au CM2 \nLe flyer reste sous la responsabilité de l’association qui les a produit.
URL:https://www.mairie-rainneville.fr/event/mini-disco-aperb/
LOCATION:Salle « la RéCréation » – Coisy
CATEGORIES:Association,Manifestation
END:VEVENT
END:VCALENDAR