BEGIN:VCALENDAR
VERSION:2.0
PRODID:-// - ECPv6.15.20//NONSGML v1.0//EN
CALSCALE:GREGORIAN
METHOD:PUBLISH
X-ORIGINAL-URL:https://www.mairie-rainneville.fr
X-WR-CALDESC:Évènements pour 
REFRESH-INTERVAL;VALUE=DURATION:PT1H
X-Robots-Tag:noindex
X-PUBLISHED-TTL:PT1H
BEGIN:VTIMEZONE
TZID:Europe/Paris
BEGIN:DAYLIGHT
TZOFFSETFROM:+0100
TZOFFSETTO:+0200
TZNAME:CEST
DTSTART:20250330T010000
END:DAYLIGHT
BEGIN:STANDARD
TZOFFSETFROM:+0200
TZOFFSETTO:+0100
TZNAME:CET
DTSTART:20251026T010000
END:STANDARD
BEGIN:DAYLIGHT
TZOFFSETFROM:+0100
TZOFFSETTO:+0200
TZNAME:CEST
DTSTART:20260329T010000
END:DAYLIGHT
BEGIN:STANDARD
TZOFFSETFROM:+0200
TZOFFSETTO:+0100
TZNAME:CET
DTSTART:20261025T010000
END:STANDARD
BEGIN:DAYLIGHT
TZOFFSETFROM:+0100
TZOFFSETTO:+0200
TZNAME:CEST
DTSTART:20270328T010000
END:DAYLIGHT
BEGIN:STANDARD
TZOFFSETFROM:+0200
TZOFFSETTO:+0100
TZNAME:CET
DTSTART:20271031T010000
END:STANDARD
END:VTIMEZONE
BEGIN:VEVENT
DTSTART;TZID=Europe/Paris:20260406T160000
DTEND;TZID=Europe/Paris:20260406T180000
DTSTAMP:20260423T040300
CREATED:20260331T163549Z
LAST-MODIFIED:20260331T165924Z
UID:12312-1775491200-1775498400@www.mairie-rainneville.fr
SUMMARY:Concert de Pâques
DESCRIPTION:L’union musical de Villers-Bocage et Geoffrey MEUNIER vous convient au concert de Pâques qui aura lieu le lundi 6 avril à 16h00 à la salle polyvalente Pierre DUCANGE. \nEntrée gratuite. Ouverture des portes à 15h30. \nBuvette et restauration sur place.
URL:https://www.mairie-rainneville.fr/event/concert-de-paques/
LOCATION:Salle P. DUCANGE
CATEGORIES:Manifestation
ATTACH;FMTTYPE=image/jpeg:https://www.mairie-rainneville.fr/wp-content/uploads/2026/03/concert-paques-2026.jpg
END:VEVENT
END:VCALENDAR